BEGIN:VCALENDAR
VERSION:2.0
PRODID:-//Arizona Hydrological Society - ECPv6.15.20//NONSGML v1.0//EN
CALSCALE:GREGORIAN
METHOD:PUBLISH
X-ORIGINAL-URL:https://azhydrosoc.org
X-WR-CALDESC:Events for Arizona Hydrological Society
REFRESH-INTERVAL;VALUE=DURATION:PT1H
X-Robots-Tag:noindex
X-PUBLISHED-TTL:PT1H
BEGIN:VTIMEZONE
TZID:America/Phoenix
BEGIN:STANDARD
TZOFFSETFROM:-0700
TZOFFSETTO:-0700
TZNAME:MST
DTSTART:20250101T000000
END:STANDARD
END:VTIMEZONE
BEGIN:VEVENT
DTSTART;TZID=America/Phoenix:20260423T173000
DTEND;TZID=America/Phoenix:20260423T193000
DTSTAMP:20260423T042418
CREATED:20260406T210615Z
LAST-MODIFIED:20260406T210652Z
UID:14423-1776965400-1776972600@azhydrosoc.org
SUMMARY:Phoenix April Chapter Meeting
DESCRIPTION:Join us for a talk with Susan Craig on From Workshops to Impact: A Community-Driven Model for Rural Groundwater Resilience in Arizona. Networking begins at 5:00 pm and the talk will be from 6:00 to 7:00. \nAbstract: From Workshops to Impact: A Community-Driven Model for Rural Groundwater Resilience in Arizona\nThis presentation shares insights from Rural Groundwater Resilience workshops conducted across Arizona\, focused on developing locally relevant responses to groundwater challenges. Through engagement with agricultural producers\, community leaders\, water managers\, and residents\, these workshops highlight how groundwater depletion\, governance gaps\, and limited resources are experienced in rural communities. \nASU’s Impact Water – Arizona serves as a neutral convener\, leveraging university resources to support collaboration in rural regions of the state\, rural regions of the state\, largely outside regulated groundwater management areas. Workshops are designed with local partners to bring together community perspectives\, technical expertise\, and policy considerations to inform place-based strategies. They integrate science\, interactive tools\, and facilitated discussions to support planning and capacity-building. \nThe presentation introduces a Workshop-to-Impact model that connects dialogue with action. Key takeaways include approaches to sustainable groundwater management\, opportunities to strengthen data-informed decision-making\, and strategies for building local capacity and coordination. Attendees will gain practical insights into rural groundwater challenges in Arizona and an adaptable model for designing engagement processes that lead to meaningful\, on-the-ground impact.
URL:https://azhydrosoc.org/event/14423/
LOCATION:ACEC of Arizona Office\, 3550 N Central Ave Suite 1140\, Phoenix\, AZ
CATEGORIES:AHS Chapter Meetings
END:VEVENT
END:VCALENDAR